BEGIN:VCALENDAR
VERSION:2.0
PRODID:-//Finger Lakes Live Steamers - ECPv6.15.20//NONSGML v1.0//EN
CALSCALE:GREGORIAN
METHOD:PUBLISH
X-WR-CALNAME:Finger Lakes Live Steamers
X-ORIGINAL-URL:https://fingerlakeslivesteamers.org
X-WR-CALDESC:Events for Finger Lakes Live Steamers
REFRESH-INTERVAL;VALUE=DURATION:PT1H
X-Robots-Tag:noindex
X-PUBLISHED-TTL:PT1H
BEGIN:VTIMEZONE
TZID:America/New_York
BEGIN:DAYLIGHT
TZOFFSETFROM:-0500
TZOFFSETTO:-0400
TZNAME:EDT
DTSTART:20250309T070000
END:DAYLIGHT
BEGIN:STANDARD
TZOFFSETFROM:-0400
TZOFFSETTO:-0500
TZNAME:EST
DTSTART:20251102T060000
END:STANDARD
BEGIN:DAYLIGHT
TZOFFSETFROM:-0500
TZOFFSETTO:-0400
TZNAME:EDT
DTSTART:20260308T070000
END:DAYLIGHT
BEGIN:STANDARD
TZOFFSETFROM:-0400
TZOFFSETTO:-0500
TZNAME:EST
DTSTART:20261101T060000
END:STANDARD
BEGIN:DAYLIGHT
TZOFFSETFROM:-0500
TZOFFSETTO:-0400
TZNAME:EDT
DTSTART:20270314T070000
END:DAYLIGHT
BEGIN:STANDARD
TZOFFSETFROM:-0400
TZOFFSETTO:-0500
TZNAME:EST
DTSTART:20271107T060000
END:STANDARD
END:VTIMEZONE
BEGIN:VEVENT
DTSTART;TZID=America/New_York:20260523T100000
DTEND;TZID=America/New_York:20260523T160000
DTSTAMP:20260422T084043
CREATED:20251214T134611Z
LAST-MODIFIED:20251214T134611Z
UID:2338-1779530400-1779552000@fingerlakeslivesteamers.org
SUMMARY:Social Membership Drive Day
DESCRIPTION:Visit the club and meet the members. Discover if you might be interested in joining our membership. Very wide range of ages and interest accepted.
URL:https://fingerlakeslivesteamers.org/event/social-membership-drive-day-2/
CATEGORIES:Public Event
END:VEVENT
END:VCALENDAR